BEGIN:VCALENDAR
VERSION:2.0
PRODID:-//ChamberMaster//Event Calendar 2.0//EN
METHOD:PUBLISH
X-PUBLISHED-TTL:P3D
REFRESH-INTERVAL:P3D
CALSCALE:GREGORIAN
BEGIN:VEVENT
DTSTART:20260818T163000Z
DTEND:20260818T180000Z
X-MICROSOFT-CDO-ALLDAYEVENT:FALSE
SUMMARY:Voices of NWI Speaker Series Program
DESCRIPTION:Join us for Voices of NWI\, featuring a moderator and a panel of respected professionals sharing their expertise on Economic Development and its impact on our region. This engaging discussion will highlight perspectives that matter to our local business community.\n\nCome learn\, connect\, and network with fellow Northwest Indiana business leaders at this impactful Crossroads Chamber program.
X-ALT-DESC;FMTTYPE=text/html:<p data-end="315" data-start="50"><span style="font-size:22px\;"><span style="font-family:tahoma\;">Join us for <em data-end="77" data-start="62">Voices of NWI</em>\, featuring a moderator and a panel of respected professionals sharing their expertise on Economic Development and its impact on our region. This engaging discussion will highlight perspectives that matter to our local business community.</span></span></p>\n\n<p data-end="442" data-is-last-node="" data-is-only-node="" data-start="317"><span style="font-size:22px\;"><span style="font-family:tahoma\;">Come learn\, connect\, and network with fellow Northwest Indiana business leaders at this impactful Crossroads Chamber program.</span></span></p>\n
LOCATION:Hard Rock Northern Indiana 5400 W. 29th Ave Gary\, IN 46406
UID:e.897.7300
SEQUENCE:3
DTSTAMP:20260419T215053Z
URL:https://members.crossroadschamber.org/events/details/voices-of-nwi-speaker-series-program-7300
END:VEVENT

END:VCALENDAR
