BEGIN:VCALENDAR
VERSION:2.0
PRODID:-//ChamberMaster//Event Calendar 2.0//EN
METHOD:PUBLISH
X-PUBLISHED-TTL:P3D
REFRESH-INTERVAL:P3D
CALSCALE:GREGORIAN
BEGIN:VEVENT
DTSTART:20250614T130000Z
DTEND:20250614T160000Z
X-MICROSOFT-CDO-ALLDAYEVENT:FALSE
SUMMARY:Walk for STH
DESCRIPTION:Join us in making a powerful stride towards change by participating in the Walk for Sojourner Truth House. By lacing up your shoes and walking alongside us\, you'll support individuals and families experiencing homelessness and hunger\, provide essential resources\, and create a community of compassion.\n\nLet's raise awareness\, foster hope\, and transform lives together. \n\nBy participating in our annual Walk for STH\, you help individuals move from temporary shelters into safe and affordable housing. You give a child access to a positive\, nurturing environment close to Mom as she participates in restorative classes\, activities\, and entrepreneurial opportunities. You ensure a family has a meal and basic essentials for their household.
X-ALT-DESC;FMTTYPE=text/html:<p>Join us in making a powerful stride towards change by participating in the Walk for Sojourner Truth House. By lacing up your shoes and walking alongside us\, you&#39\;ll support individuals and families experiencing homelessness and hunger\, provide essential resources\, and create a community of compassion.</p>\n\n<p>Let&#39\;s raise awareness\, foster hope\, and transform lives together.&nbsp\;</p>\n\n<p>By participating in our annual&nbsp\;<strong>Walk for STH</strong>\, you help individuals move from temporary shelters into safe and affordable housing. You give a child access to a positive\, nurturing environment close to Mom as she participates in restorative classes\, activities\, and entrepreneurial opportunities. You ensure a family has a meal and basic essentials for their household.</p>\n
LOCATION:Sojourner Truth House - 410 W. 13th Avenue\, Gary\, IN 4640
UID:e.897.7086
SEQUENCE:3
DTSTAMP:20260420T063210Z
URL:https://members.crossroadschamber.org/events/details/walk-for-sth-7086
END:VEVENT

END:VCALENDAR
