BEGIN:VCALENDAR
VERSION:2.0
PRODID:-//ChamberMaster//Event Calendar 2.0//EN
METHOD:PUBLISH
X-PUBLISHED-TTL:P3D
REFRESH-INTERVAL:P3D
CALSCALE:GREGORIAN
BEGIN:VEVENT
DTSTART:20260606T150000Z
DTEND:20260606T190000Z
X-MICROSOFT-CDO-ALLDAYEVENT:FALSE
SUMMARY:We Fight Together Overdose Awareness Walk Run - Sounds of Sarah
DESCRIPTION:Join us Saturday\, June 6\, 2025 10 AM to 2 PM\, for the "We Fight Together" 3K Walk Run as we raise awareness about the dangers of illicit drugs/ overdose\, substance use\, and mental health. REGISTRATION IS HERE\n\n\n\nFree to participate- We are accepting vendors\n\nLocation: Wicker Park - Pavilion A\, located at 8554 Indianapolis Boulevard\, Highland IN (west entrance)\n\nEvent Schedule\n\n10:00 AM   1:00 PM   Tons of Vendors\, Gathering\, Music\, FREE Lunch\, Kids events\n\n10:00 AM   12:00 PM   Walk/Run Registration opens\n\n1:00 PM   3K Runners and Walkers\n\n2:00 PM   Awards and closing announcements\n\nOn the morning of Saturday\, June 6th\, 2026\, runners and walkers will come together at Wicker Park in Highland\, Indiana\, for the fourth annual "We Fight Together: Drug Poisoning/Overdose Awareness 3K Walk/Run." This event unites the community in the fight against the devastating impact of drug poisoning and overdose by honoring lives lost\, supporting those affected\, and promoting awareness\, education\, and prevention.\n\nAll funds raised will support Sounds of Sarah Inc.\, a 501(c)(3) nonprofit organization dedicated to providing prevention\, education\, and advocacy focused on the dangers of illicit fentanyl\, counterfeit drugs\, and addiction. Our mission is to raise awareness of the nationwide opioid epidemic\, provide prevention services\, and ensure the public has access to life-saving information and resources. Beyond the tragic fatalities caused by drug poisoning\, countless nonfatal overdoses occur\, leaving lasting emotional and economic consequences for families and communities. With fentanyl poisoning remaining the leading cause of death among individuals aged 18 to 45\, as reported by the CDC\, this crisis demands urgent action.100% of donations directly support Sounds of Sarah's programs\, including Link4Life and the EMBRACE program\, expanding resources and outreach to save lives. All donations are tax-deductible as allowable by law.
X-ALT-DESC;FMTTYPE=text/html:<p><span style="font-size:22px\;"><span style="color:rgb(0\, 0\, 0)">Join us&nbsp\;Saturday\, June 6\, 2025 10 AM to 2 PM\, for the &quot\;We Fight Together&quot\; 3K Walk Run&nbsp\;as we raise awareness about the dangers of illicit drugs/ overdose\, substance use\, and mental health. <a href="https://runsignup.com/Race/IN/Highland/WeFightTogetherOverdoseDrugPoisoningWalkRun">REGISTRATION IS HERE</a></span><br />\n<br />\n<span style="color:rgb(0\, 0\, 0)">Free to participate-&nbsp\;</span><span style="color:rgb(0\, 0\, 0)">We are accepting vendors</span></span></p>\n\n<p><span style="font-size:22px\;"><span style="color:rgb(0\, 0\, 0)">Location: Wicker Park - Pavilion A\, located at 8554 Indianapolis Boulevard\, Highland IN (west entrance)</span></span></p>\n\n<p><span style="font-size:22px\;">Event Schedule</span></p>\n\n<p><span style="font-size:22px\;">10:00 AM &ndash\; 1:00 PM &ndash\; Tons of Vendors\, Gathering\, Music\, FREE Lunch\, Kids events<br />\n10:00 AM &ndash\; 12:00 PM &ndash\; Walk/Run Registration opens<br />\n1:00 PM &ndash\; 3K Runners and Walkers<br />\n2:00 PM &ndash\; Awards and closing announcements</span></p>\n\n<p><span style="font-size:22px\;">On the morning of&nbsp\;Saturday\, June 6th\, 2026\,&nbsp\;runners and walkers will come together at Wicker Park in Highland\, Indiana\, for the fourth annual &quot\;We Fight Together: Drug Poisoning/Overdose Awareness 3K Walk/Run.&quot\; This event unites the community in the fight against the devastating impact of drug poisoning and overdose by honoring lives lost\, supporting those affected\, and promoting awareness\, education\, and prevention.</span></p>\n\n<p><span style="font-size:22px\;">All funds raised will support Sounds of Sarah Inc.\, a 501(c)(3) nonprofit organization dedicated to providing prevention\, education\, and advocacy focused on the dangers of illicit fentanyl\, counterfeit drugs\, and addiction. Our mission is to raise awareness of the nationwide opioid epidemic\, provide prevention services\, and ensure the public has access to life-saving information and resources.&nbsp\;Beyond the tragic fatalities caused by drug poisoning\, countless nonfatal overdoses occur\, leaving lasting emotional and economic consequences for families and communities. With fentanyl poisoning remaining the leading cause of death among individuals aged 18 to 45\, as reported by the CDC\, this crisis demands urgent action.100% of donations directly support Sounds of Sarah&#39\;s programs\, including Link4Life and the EMBRACE program\, expanding resources and outreach to save lives. All donations are tax-deductible as allowable by law.</span></p>\n
LOCATION:Wicker Park - Pavilion A\, 8554 Indianapolis Boulevard Highland IN (west entrance)
UID:e.897.7409
SEQUENCE:3
DTSTAMP:20260421T070513Z
URL:https://members.crossroadschamber.org/events/details/we-fight-together-overdose-awareness-walk-run-sounds-of-sarah-7409
END:VEVENT

END:VCALENDAR
