BEGIN:VCALENDAR
VERSION:2.0
PRODID:-//ChamberMaster//Event Calendar 2.0//EN
METHOD:PUBLISH
X-PUBLISHED-TTL:P3D
REFRESH-INTERVAL:P3D
CALSCALE:GREGORIAN
BEGIN:VEVENT
DTSTART:20230606T200000Z
DTEND:20230606T220000Z
X-MICROSOFT-CDO-ALLDAYEVENT:FALSE
SUMMARY:Webb Hyundai Merrillville
DESCRIPTION:Webb Hyundai Merrillville \n\nRibbon Cutting
X-ALT-DESC;FMTTYPE=text/html:Webb Hyundai Merrillville&nbsp\;<br />\nRibbon Cutting&nbsp\;
LOCATION:1000 W 81st St Merrillville\, IN 46410
UID:e.897.5017
SEQUENCE:3
DTSTAMP:20260424T002106Z
URL:https://members.crossroadschamber.org/events/details/webb-hyundai-merrillville-5017
END:VEVENT

END:VCALENDAR
