BEGIN:VCALENDAR
VERSION:2.0
PRODID:-//ChamberMaster//Event Calendar 2.0//EN
METHOD:PUBLISH
X-PUBLISHED-TTL:P3D
REFRESH-INTERVAL:P3D
CALSCALE:GREGORIAN
BEGIN:VEVENT
DTSTART:20251025T150000Z
DTEND:20251025T170000Z
X-MICROSOFT-CDO-ALLDAYEVENT:FALSE
SUMMARY:Webb Hyundia Merrillville Trunk or Treat Event
DESCRIPTION:Looking for a safe\, family-friendly way to celebrate Halloween? ??\n\nJoin us at Webb Hyundai Merrillville for our Trunk or Treat event! Families from Merrillville and surrounding communities are invited to enjoy decorated trunks\, collect free candy\, and celebrate the season in a fun and welcoming environment.\n\nCostumes encouraged   Come dressed in your favorite Halloween attire!\n\nFree event for all ages   But space is limited\, be sure to register!\n\nLocal businesses   Want to participate by decorating a trunk? We'd love to have you! Email marketing@webbcars.com to get involved.\n\nReserve your spot now: https://bit.ly/45XIDYZ\n\nLet's make this a morning of treats\, smiles\, and community spirit!
X-ALT-DESC;FMTTYPE=text/html:<p><span style="font-size:inherit">Looking for a safe\, family-friendly way to celebrate Halloween? ??</span><br />\n<span style="font-size:inherit">Join us at <strong>Webb Hyundai Merrillville</strong> for our <strong>Trunk or Treat</strong> event! Families from Merrillville and surrounding communities are invited to enjoy decorated trunks\, collect free candy\, and celebrate the season in a fun and welcoming environment.</span></p>\n\n<p><span style="font-size:inherit"><strong>Costumes encouraged</strong> &ndash\; Come dressed in your favorite Halloween attire!</span><br />\n<span style="font-size:inherit"><strong>Free event for all ages</strong> &ndash\; But space is limited\, be sure to register!</span><br />\n<span style="font-size:inherit"><strong>Local businesses</strong> &ndash\; Want to participate by decorating a trunk? We&#39\;d love to have you! Email <strong>marketing@webbcars.com</strong> to get involved.</span></p>\n\n<p><span style="font-size:inherit"><strong>Reserve your spot now</strong>: </span><a class="fui-Link ___1q1shib f2hkw1w f3rmtva f1ewtqcl fyind8e f1k6fduh f1w7gpdv fk6fouc fjoy568 figsok6 f1s184ao f1mk8lai fnbmjn9 f1o700av f13mvf36 f1cmlufx f9n3di6 f1ids18y f1tx3yz7 f1deo86v f1eh06m1 f1iescvh fhgqx19 f1olyrje f1p93eir f1nev41a f1h8hb77 f1lqvz6u f10aw75t fsle3fq f17ae5zn" href="https://bit.ly/45XIDYZ" id="menur222" rel="noreferrer noopener" target="_blank" title="https://bit.ly/45xidyz">https://bit.ly/45XIDYZ</a><br />\n<span style="font-size:inherit">Let&rsquo\;s make this a morning of treats\, smiles\, and community spirit!</span></p>\n
LOCATION:Webb Hyundai Merrillville 1000 81st Ave Merrillville\, IN 46410
UID:e.897.7203
SEQUENCE:3
DTSTAMP:20260419T215448Z
URL:https://members.crossroadschamber.org/events/details/webb-hyundia-merrillville-trunk-or-treat-event-7203
END:VEVENT

END:VCALENDAR
