BEGIN:VCALENDAR
VERSION:2.0
PRODID:-//ChamberMaster//Event Calendar 2.0//EN
METHOD:PUBLISH
X-PUBLISHED-TTL:P3D
REFRESH-INTERVAL:P3D
CALSCALE:GREGORIAN
BEGIN:VEVENT
DTSTART:20230511T200000Z
DTEND:20230511T230000Z
X-MICROSOFT-CDO-ALLDAYEVENT:FALSE
SUMMARY:Weichert Realtors Ribbon Cutting
DESCRIPTION:Weichert Realtors \n\nRibbon Cutting
X-ALT-DESC;FMTTYPE=text/html:Weichert Realtors&nbsp\;<br />\nRibbon Cutting&nbsp\;
LOCATION:617 N Main St Crown Point\, IN 46307
UID:e.897.5015
SEQUENCE:3
DTSTAMP:20260424T035228Z
URL:https://members.crossroadschamber.org/events/details/weichert-realtors-ribbon-cutting-5015
END:VEVENT

END:VCALENDAR
