BEGIN:VCALENDAR
VERSION:2.0
PRODID:-//ChamberMaster//Event Calendar 2.0//EN
METHOD:PUBLISH
X-PUBLISHED-TTL:P3D
REFRESH-INTERVAL:P3D
CALSCALE:GREGORIAN
BEGIN:VEVENT
DTSTART:20240628T200000Z
DTEND:20240629T000000Z
X-MICROSOFT-CDO-ALLDAYEVENT:FALSE
SUMMARY:Williams Eye Institute Ribbon Cutting
DESCRIPTION:Ribbon Cutting will take place at 3:30pm
X-ALT-DESC;FMTTYPE=text/html:Ribbon Cutting will take place at 3:30pm&nbsp\;
LOCATION:9797 Massachusetts St Crown Point\, IN 46307
UID:e.897.6426
SEQUENCE:3
DTSTAMP:20260421T040854Z
URL:https://members.crossroadschamber.org/events/details/williams-eye-institute-ribbon-cutting-6426
END:VEVENT

END:VCALENDAR
