BEGIN:VCALENDAR
VERSION:2.0
PRODID:-//ChamberMaster//Event Calendar 2.0//EN
METHOD:PUBLISH
X-PUBLISHED-TTL:P3D
REFRESH-INTERVAL:P3D
CALSCALE:GREGORIAN
BEGIN:VEVENT
DTSTART:20230914T150000Z
DTEND:20230914T170000Z
X-MICROSOFT-CDO-ALLDAYEVENT:FALSE
SUMMARY:Winfield Library Ribbon Cutting
DESCRIPTION:
X-ALT-DESC;FMTTYPE=text/html:
LOCATION:Winfield Library 10711 Randolph St Winfield\, IN 46307
UID:e.897.5058
SEQUENCE:3
DTSTAMP:20260423T185717Z
URL:https://members.crossroadschamber.org/events/details/winfield-library-ribbon-cutting-5058
END:VEVENT

END:VCALENDAR
