BEGIN:VCALENDAR
VERSION:2.0
PRODID:-//ChamberMaster//Event Calendar 2.0//EN
METHOD:PUBLISH
X-PUBLISHED-TTL:P3D
REFRESH-INTERVAL:P3D
CALSCALE:GREGORIAN
BEGIN:VEVENT
DTSTART:20250306T143000Z
DTEND:20250306T153000Z
X-MICROSOFT-CDO-ALLDAYEVENT:FALSE
SUMMARY:Women in Leadership Development (WILD) Committee Meeting
DESCRIPTION:Women in Leadership Development
X-ALT-DESC;FMTTYPE=text/html:Women in Leadership Development
LOCATION:Crossroads Community Room 440 W 84th Dr Merrillville
UID:e.897.6615
SEQUENCE:3
DTSTAMP:20260420T103057Z
URL:https://members.crossroadschamber.org/events/details/women-in-leadership-development-wild-committee-meeting-03-06-2025-6615
END:VEVENT

END:VCALENDAR
