BEGIN:VCALENDAR
VERSION:2.0
PRODID:-//ChamberMaster//Event Calendar 2.0//EN
METHOD:PUBLISH
X-PUBLISHED-TTL:P3D
REFRESH-INTERVAL:P3D
CALSCALE:GREGORIAN
BEGIN:VEVENT
DTSTART:20221110T151500Z
DTEND:20221111T053000Z
X-MICROSOFT-CDO-ALLDAYEVENT:FALSE
SUMMARY:Women's Brunch
DESCRIPTION:Empowering Women:\n\nRise Up with Carey Yukich\n\nSponsored by PNC Project 257
X-ALT-DESC;FMTTYPE=text/html:Empowering Women:<br />\nRise Up with Carey Yukich<br />\nSponsored by PNC Project 257&nbsp\;
LOCATION:Maki Ballroom by The Grand Catering and Events 1 Courthouse Square\, Crown Point\, IN 46307
UID:e.897.4552
SEQUENCE:3
DTSTAMP:20260424T123925Z
URL:https://members.crossroadschamber.org/events/details/women-s-brunch-4552
END:VEVENT

END:VCALENDAR
