BEGIN:VCALENDAR
VERSION:2.0
PRODID:-//ChamberMaster//Event Calendar 2.0//EN
METHOD:PUBLISH
X-PUBLISHED-TTL:P3D
REFRESH-INTERVAL:P3D
CALSCALE:GREGORIAN
BEGIN:VEVENT
DTSTART:20241107T143000Z
DTEND:20241107T170000Z
X-MICROSOFT-CDO-ALLDAYEVENT:FALSE
SUMMARY:Women's Brunch
DESCRIPTION:Equality in the Workplace:\n\nKeynote speaker:  Athena Kasvikis\, Founder BeHave Bras\, CMO\, Shark Tank Winner\n\nPanelists include:\n\nGloria Morris - Owner of Float Sixty and Great Lakes Hub Sports and CPG Cloud Transformation at Google\n\nMonica Rubio - Community Lending Market Executive\, Vice President & NWI Market President with Old National Bank\n\nApril Glueckert - Chief Executive Officer of Calumet Lumber\n\nRaeann Trakas - Senior Community Relations Representative with Cleveland Cliffs\n\n\n\nModerator - Vanessa Green Sinders - President & Chief Executive Office of Indiana Chamber of Commerce
X-ALT-DESC;FMTTYPE=text/html:<span style="font-family:verdana\;">Equality in the Workplace:<br />\nKeynote speaker:&nbsp\; Athena Kasvikis\, Founder BeHave Bras\, CMO\, Shark Tank Winner<br />\nPanelists include:<br />\n<span style="font-size:12px\;">Gloria Morris - Owner of Float Sixty and Great Lakes Hub Sports and&nbsp\;<span style="color: rgba(0\, 0\, 0\, 0.9)\; background-color: rgb(255\, 255\, 255)\;">CPG Cloud Transformation at Google<br />\nMonica Rubio - Community Lending Market Executive\, Vice President &amp\; NWI Market President with Old National Bank<br />\nApril Glueckert - Chief Executive Officer of Calumet Lumber<br />\nRaeann Trakas - Senior Community Relations Representative with Cleveland Cliffs<br />\n<br />\nModerator - Vanessa Green Sinders - President &amp\; Chief Executive Office of Indiana Chamber of Commerce</span></span></span><br />\n<br />\n&nbsp\;
LOCATION:Center for Visual & Performing Arts 1040 Ridge Rd\, Munster
UID:e.897.5512
SEQUENCE:3
DTSTAMP:20260420T180251Z
URL:https://members.crossroadschamber.org/events/details/women-s-brunch-5512
END:VEVENT

END:VCALENDAR
