BEGIN:VCALENDAR
VERSION:2.0
PRODID:-//ChamberMaster//Event Calendar 2.0//EN
METHOD:PUBLISH
X-PUBLISHED-TTL:P3D
REFRESH-INTERVAL:P3D
CALSCALE:GREGORIAN
BEGIN:VEVENT
DTSTART:20251002T133000Z
DTEND:20251002T160000Z
X-MICROSOFT-CDO-ALLDAYEVENT:FALSE
SUMMARY:Women's Brunch
DESCRIPTION:Please join the WILD committee for our annual Women's Brunch!  We are super excited to welcome a Crown Point native\, Jessica Koscielniak.  Jessica currently works for Reuters as the the Washington Bureau Pictures Editor running the still photography staff covering the White House and Capital Hill.\n\n\n\nIn addition\, Vanessa Green Sniders\, President and CEO of the Indiana Chamber of Commerce\, will host fire side chats with Professor Surekha Rao from Indiana University Northwest and Jenny Craig Brown\, CEO of Great News Life and Alejandra Y Castillo\, Chancellor's Senior Fellow for Economic Development at Purdue University Northwest.
X-ALT-DESC;FMTTYPE=text/html:Please join the WILD committee for our annual Women&#39\;s Brunch!&nbsp\; We are super excited to welcome a Crown Point native\, Jessica Koscielniak.&nbsp\; Jessica currently works for Reuters as the the Washington Bureau Pictures Editor running the still photography staff covering the White House and Capital Hill.<br />\n<br />\nIn addition\, Vanessa Green Sniders\, President and CEO of the Indiana Chamber of Commerce\, will host fire side chats with Professor Surekha Rao from Indiana University Northwest and Jenny Craig Brown\, CEO of Great News Life and Alejandra Y Castillo\, Chancellor&#39\;s Senior Fellow for Economic Development at Purdue University Northwest.&nbsp\;&nbsp\;
LOCATION:Center for Visual & Performing Arts 1040 Ridge Rd\, Munster
UID:e.897.6601
SEQUENCE:3
DTSTAMP:20260419T213928Z
URL:https://members.crossroadschamber.org/events/details/women-s-brunch-6601
END:VEVENT

END:VCALENDAR
