BEGIN:VCALENDAR
VERSION:2.0
PRODID:-//ChamberMaster//Event Calendar 2.0//EN
METHOD:PUBLISH
X-PUBLISHED-TTL:P3D
REFRESH-INTERVAL:P3D
CALSCALE:GREGORIAN
BEGIN:VEVENT
DTSTART:20240814T210000Z
DTEND:20240814T220000Z
X-MICROSOFT-CDO-ALLDAYEVENT:FALSE
SUMMARY:Wound Treatment Center Ribbon Cutting
DESCRIPTION:We are excited to announce that the Wound Treatment Center at the Methodist Hospital Southlake campus is moving to a new location in Pavilion D. Please join us at the Ribbon Cutting.\n\n \n\nRibbon Cutting will take place at 4:30pm.\n\n \n\nWe look forward to seeing everyone and appreciate your support of our Crossroads Chamber members\, and Northwest Indiana's business Community.
X-ALT-DESC;FMTTYPE=text/html:We are excited to announce that the W<span style="font-family:segoe ui\,sans-serif\;"><span style="font-size:10.0pt\;">ound Treatment Center at the Methodist Hospital Southlake campus is moving to a new location in Pavilion D.&nbsp\;</span></span>Please join us at the Ribbon Cutting.<br />\n&nbsp\;<br />\nRibbon Cutting will take place at 4:30pm.<br />\n&nbsp\;<br />\nWe look forward to seeing everyone and appreciate your support of our Crossroads Chamber members\, and Northwest Indiana&rsquo\;s business Community.
LOCATION:8701 Broadway (Pavilion D) Merrillville\, IN 46410
UID:e.897.6430
SEQUENCE:3
DTSTAMP:20260421T004659Z
URL:https://members.crossroadschamber.org/events/details/wound-treatment-center-ribbon-cutting-6430
END:VEVENT

END:VCALENDAR
