BEGIN:VCALENDAR
VERSION:2.0
PRODID:-//ChamberMaster//Event Calendar 2.0//EN
METHOD:PUBLISH
X-PUBLISHED-TTL:P3D
REFRESH-INTERVAL:P3D
CALSCALE:GREGORIAN
BEGIN:VEVENT
DTSTART:20240208T220000Z
DTEND:20240209T000000Z
X-MICROSOFT-CDO-ALLDAYEVENT:FALSE
SUMMARY:Wulf Diamond Jewelers Ribbon Cutting
DESCRIPTION:We are excited to invite everyone to celebrate the grand re-brand of AaLand Jewelers and welcome Wulf Diamond Jewelers to Crown Point. Please join us at the Ribbon Cutting/Open house. \n\n \n\nOpen house will be held from 4pm-6pm\n\nRibbon Cutting will take place at 4pm.\n\n \n\nWe look forward to seeing everyone and appreciate your support of our Crossroads Chamber members\, and Northwest Indiana's business Community.
X-ALT-DESC;FMTTYPE=text/html:<span style="font-size:12px\;"><span style="font-family:arial\;">We are excited to invite everyone to celebrate the&nbsp\;grand re-brand of AaLand Jewelers and welcome Wulf Diamond Jewelers to Crown Point. Please join us at the Ribbon Cutting/Open house.&nbsp\;<br />\n&nbsp\;<br />\nOpen house will be held from 4pm-6pm<br />\nRibbon Cutting will take place at 4pm.<br />\n&nbsp\;<br />\nWe look forward to seeing everyone and appreciate your support of our Crossroads Chamber members\, and Northwest Indiana&rsquo\;s business Community.</span></span>
LOCATION:Wulf Diamond Jewelers 10460 Broadway Crown Point\, IN
UID:e.897.6089
SEQUENCE:3
DTSTAMP:20260423T102602Z
URL:https://members.crossroadschamber.org/events/details/wulf-diamond-jewelers-ribbon-cutting-6089
END:VEVENT

END:VCALENDAR
