BEGIN:VCALENDAR
VERSION:2.0
PRODID:-//ChamberMaster//Event Calendar 2.0//EN
METHOD:PUBLISH
X-PUBLISHED-TTL:P3D
REFRESH-INTERVAL:P3D
CALSCALE:GREGORIAN
BEGIN:VEVENT
DTSTART:20250904T140000Z
DTEND:20250904T170000Z
X-MICROSOFT-CDO-ALLDAYEVENT:FALSE
SUMMARY:Your Future\, Your Choice: Careers with Skills & Degrees
DESCRIPTION:With the new high school diploma requirements going into effect\, this event introduces 7th and 8th grade students to careers requiring associate college degrees\, technical training and certifications.  With hands-on activities and insights from local professionals\, students will explore interests and future opportunities
X-ALT-DESC;FMTTYPE=text/html:With the new high school diploma requirements going into effect\, this event introduces 7th and 8th grade students to careers requiring associate college degrees\, technical training and certifications.&nbsp\; With hands-on activities and insights from local professionals\, students will explore interests and future opportunities&nbsp\;&nbsp\;&nbsp\;&nbsp\;
LOCATION:Great Lakes Sports Hub 1301 Merrillville Road Crown Point\, IN
UID:e.897.7132
SEQUENCE:3
DTSTAMP:20260419T233346Z
URL:https://members.crossroadschamber.org/events/details/your-future-your-choice-careers-with-skills-degrees-7132
END:VEVENT

END:VCALENDAR
