BEGIN:VCALENDAR
VERSION:2.0
PRODID:-//ChamberMaster//Event Calendar 2.0//EN
METHOD:PUBLISH
X-PUBLISHED-TTL:P3D
REFRESH-INTERVAL:P3D
CALSCALE:GREGORIAN
BEGIN:VEVENT
DTSTART:20250822T170000Z
DTEND:20250823T010000Z
X-MICROSOFT-CDO-ALLDAYEVENT:FALSE
SUMMARY:Your Invited to Cloudbusters for an Open House
DESCRIPTION:Cloudbusters is hosting an Open House and BBQ! \n\n\n\nCome enjoy the fun! \n\nBBQ\, Refreshments\, Game\, Golf Simulator\, Movie Theater\, Meet the team and much more!
X-ALT-DESC;FMTTYPE=text/html:<span style="font-size:18px\;"><strong>&nbsp\;Cloudbusters is hosting an Open House and BBQ!&nbsp\;</strong></span><br />\n<br />\n<span style="font-size:18px\;">Come enjoy the fun!&nbsp\;<br />\nBBQ\, Refreshments\, Game\, Golf Simulator\, Movie Theater\, Meet the team and much more!&nbsp\;&nbsp\;</span>
LOCATION:891 E. Summit St. Crown Point\, IN 46307
UID:e.897.7141
SEQUENCE:3
DTSTAMP:20260420T011848Z
URL:https://members.crossroadschamber.org/events/details/your-invited-to-cloudbusters-for-an-open-house-7141
END:VEVENT

END:VCALENDAR
